BEGIN:VCALENDAR
VERSION:2.0
PRODID:-//Mildura Sporting Precinct - ECPv6.9.0//NONSGML v1.0//EN
CALSCALE:GREGORIAN
METHOD:PUBLISH
X-WR-CALNAME:Mildura Sporting Precinct
X-ORIGINAL-URL:https://mildurasportingprecinct.com.au
X-WR-CALDESC:Events for Mildura Sporting Precinct
REFRESH-INTERVAL;VALUE=DURATION:PT1H
X-Robots-Tag:noindex
X-PUBLISHED-TTL:PT1H
BEGIN:VTIMEZONE
TZID:Australia/Melbourne
BEGIN:STANDARD
TZOFFSETFROM:+1100
TZOFFSETTO:+1000
TZNAME:AEST
DTSTART:20240406T160000
END:STANDARD
BEGIN:DAYLIGHT
TZOFFSETFROM:+1000
TZOFFSETTO:+1100
TZNAME:AEDT
DTSTART:20241005T160000
END:DAYLIGHT
END:VTIMEZONE
BEGIN:VEVENT
DTSTART;TZID=Australia/Melbourne:20240201T093000
DTEND;TZID=Australia/Melbourne:20240201T123000
DTSTAMP:20260423T220637
CREATED:20240108T042014Z
LAST-MODIFIED:20240111T220646Z
UID:10000298-1706779800-1706790600@mildurasportingprecinct.com.au
SUMMARY:COMMUNITY PLAYGROUP
DESCRIPTION:Mildura Rural City Council’s Early Years department provides a free Community Playgroup at MSP on a Thursday! Take part in a fun\, active playgroup that encourages movement and play.\n\n\n \n\n\n📆 Every Thursday morning\n\n\n\n✅ Available between 9:30am and 12:30pm – arrive at a time that suits your family\n\n\n\n👨‍👩‍👧‍👦 For children up to 5 years of age\n\n\n\n☕️ Grab a coffee from the café\, talk with other parents and enjoy watching your children play!\n\n\nLooking to get involved?\n\nCome along! You can register on arrival on any Thursday during term time.
URL:https://mildurasportingprecinct.com.au/event/community-playgroup/2024-02-01/
LOCATION:Mildura Sporting Precinct\, 684 Deakin Ave\, Mildura\, Vic\, 3500\, Australia
CATEGORIES:Community
ATTACH;FMTTYPE=image/jpeg:https://mildurasportingprecinct.com.au/wp-content/uploads/2022/08/iStock-1287173911_web.jpg
END:VEVENT
BEGIN:VEVENT
DTSTART;TZID=Australia/Melbourne:20240208T093000
DTEND;TZID=Australia/Melbourne:20240208T123000
DTSTAMP:20260423T220637
CREATED:20240108T042014Z
LAST-MODIFIED:20240111T220646Z
UID:10000299-1707384600-1707395400@mildurasportingprecinct.com.au
SUMMARY:COMMUNITY PLAYGROUP
DESCRIPTION:Mildura Rural City Council’s Early Years department provides a free Community Playgroup at MSP on a Thursday! Take part in a fun\, active playgroup that encourages movement and play.\n\n\n \n\n\n📆 Every Thursday morning\n\n\n\n✅ Available between 9:30am and 12:30pm – arrive at a time that suits your family\n\n\n\n👨‍👩‍👧‍👦 For children up to 5 years of age\n\n\n\n☕️ Grab a coffee from the café\, talk with other parents and enjoy watching your children play!\n\n\nLooking to get involved?\n\nCome along! You can register on arrival on any Thursday during term time.
URL:https://mildurasportingprecinct.com.au/event/community-playgroup/2024-02-08/
LOCATION:Mildura Sporting Precinct\, 684 Deakin Ave\, Mildura\, Vic\, 3500\, Australia
CATEGORIES:Community
ATTACH;FMTTYPE=image/jpeg:https://mildurasportingprecinct.com.au/wp-content/uploads/2022/08/iStock-1287173911_web.jpg
END:VEVENT
BEGIN:VEVENT
DTSTART;TZID=Australia/Melbourne:20240208T160000
DTEND;TZID=Australia/Melbourne:20240208T193000
DTSTAMP:20260423T220637
CREATED:20240131T213010Z
LAST-MODIFIED:20240131T213010Z
UID:10000416-1707408000-1707420600@mildurasportingprecinct.com.au
SUMMARY:AFL Community Camp – Richmond Tigers
DESCRIPTION:The Richmond Football Club is coming to the Mildura Sporting Precinct! \nThe Tigers\, in partnership with AFL Sunraysia\, will head to Mildura on Thursday 8 February as part of its two-day AFL Community Camp. \nThere will be opportunities for community members to meet players and coaches at the following events: \nThursday 8 February \n\n4pm – 5pm – Junior Clinic (details to follow – checking with AFL Sunraysia for more information)\n5pm to 6pm – Player signings and photo opportunities\nThursday February 8 – 6.30pm – 7.30pm – Coaching Forum with Adam Yze\, Sam Lonergan and Kane Lambert (Register: https://forms.office.com/r/GfzfDnJ60z\n\nWe can’t wait to see the Tiger Army at the Mildura Sporting Precinct. For more information please contact David Kennedy at David.j.kennedy@afl.com.au
URL:https://mildurasportingprecinct.com.au/event/afl-community-camp-richmond-tigers/
LOCATION:Mildura Sporting Precinct\, 684 Deakin Ave\, Mildura\, Vic\, 3500\, Australia
CATEGORIES:Community
ATTACH;FMTTYPE=image/png:https://mildurasportingprecinct.com.au/wp-content/uploads/2024/02/Facebook-3.png
ORGANIZER;CN="AFL Sunraysia":MAILTO:David.j.kennedy@afl.com.au
END:VEVENT
BEGIN:VEVENT
DTSTART;TZID=Australia/Melbourne:20240215T093000
DTEND;TZID=Australia/Melbourne:20240215T123000
DTSTAMP:20260423T220637
CREATED:20240108T042014Z
LAST-MODIFIED:20240111T220646Z
UID:10000300-1707989400-1708000200@mildurasportingprecinct.com.au
SUMMARY:COMMUNITY PLAYGROUP
DESCRIPTION:Mildura Rural City Council’s Early Years department provides a free Community Playgroup at MSP on a Thursday! Take part in a fun\, active playgroup that encourages movement and play.\n\n\n \n\n\n📆 Every Thursday morning\n\n\n\n✅ Available between 9:30am and 12:30pm – arrive at a time that suits your family\n\n\n\n👨‍👩‍👧‍👦 For children up to 5 years of age\n\n\n\n☕️ Grab a coffee from the café\, talk with other parents and enjoy watching your children play!\n\n\nLooking to get involved?\n\nCome along! You can register on arrival on any Thursday during term time.
URL:https://mildurasportingprecinct.com.au/event/community-playgroup/2024-02-15/
LOCATION:Mildura Sporting Precinct\, 684 Deakin Ave\, Mildura\, Vic\, 3500\, Australia
CATEGORIES:Community
ATTACH;FMTTYPE=image/jpeg:https://mildurasportingprecinct.com.au/wp-content/uploads/2022/08/iStock-1287173911_web.jpg
END:VEVENT
BEGIN:VEVENT
DTSTART;TZID=Australia/Melbourne:20240222T093000
DTEND;TZID=Australia/Melbourne:20240222T123000
DTSTAMP:20260423T220637
CREATED:20240108T042014Z
LAST-MODIFIED:20240111T220646Z
UID:10000301-1708594200-1708605000@mildurasportingprecinct.com.au
SUMMARY:COMMUNITY PLAYGROUP
DESCRIPTION:Mildura Rural City Council’s Early Years department provides a free Community Playgroup at MSP on a Thursday! Take part in a fun\, active playgroup that encourages movement and play.\n\n\n \n\n\n📆 Every Thursday morning\n\n\n\n✅ Available between 9:30am and 12:30pm – arrive at a time that suits your family\n\n\n\n👨‍👩‍👧‍👦 For children up to 5 years of age\n\n\n\n☕️ Grab a coffee from the café\, talk with other parents and enjoy watching your children play!\n\n\nLooking to get involved?\n\nCome along! You can register on arrival on any Thursday during term time.
URL:https://mildurasportingprecinct.com.au/event/community-playgroup/2024-02-22/
LOCATION:Mildura Sporting Precinct\, 684 Deakin Ave\, Mildura\, Vic\, 3500\, Australia
CATEGORIES:Community
ATTACH;FMTTYPE=image/jpeg:https://mildurasportingprecinct.com.au/wp-content/uploads/2022/08/iStock-1287173911_web.jpg
END:VEVENT
BEGIN:VEVENT
DTSTART;TZID=Australia/Melbourne:20240229T093000
DTEND;TZID=Australia/Melbourne:20240229T123000
DTSTAMP:20260423T220637
CREATED:20240108T042014Z
LAST-MODIFIED:20240111T220646Z
UID:10000302-1709199000-1709209800@mildurasportingprecinct.com.au
SUMMARY:COMMUNITY PLAYGROUP
DESCRIPTION:Mildura Rural City Council’s Early Years department provides a free Community Playgroup at MSP on a Thursday! Take part in a fun\, active playgroup that encourages movement and play.\n\n\n \n\n\n📆 Every Thursday morning\n\n\n\n✅ Available between 9:30am and 12:30pm – arrive at a time that suits your family\n\n\n\n👨‍👩‍👧‍👦 For children up to 5 years of age\n\n\n\n☕️ Grab a coffee from the café\, talk with other parents and enjoy watching your children play!\n\n\nLooking to get involved?\n\nCome along! You can register on arrival on any Thursday during term time.
URL:https://mildurasportingprecinct.com.au/event/community-playgroup/2024-02-29/
LOCATION:Mildura Sporting Precinct\, 684 Deakin Ave\, Mildura\, Vic\, 3500\, Australia
CATEGORIES:Community
ATTACH;FMTTYPE=image/jpeg:https://mildurasportingprecinct.com.au/wp-content/uploads/2022/08/iStock-1287173911_web.jpg
END:VEVENT
END:VCALENDAR