BEGIN:VCALENDAR
VERSION:2.0
PRODID:-//Mildura Sporting Precinct - ECPv6.9.0//NONSGML v1.0//EN
CALSCALE:GREGORIAN
METHOD:PUBLISH
X-WR-CALNAME:Mildura Sporting Precinct
X-ORIGINAL-URL:https://mildurasportingprecinct.com.au
X-WR-CALDESC:Events for Mildura Sporting Precinct
REFRESH-INTERVAL;VALUE=DURATION:PT1H
X-Robots-Tag:noindex
X-PUBLISHED-TTL:PT1H
BEGIN:VTIMEZONE
TZID:Australia/Melbourne
BEGIN:STANDARD
TZOFFSETFROM:+1100
TZOFFSETTO:+1000
TZNAME:AEST
DTSTART:20250405T160000
END:STANDARD
BEGIN:DAYLIGHT
TZOFFSETFROM:+1000
TZOFFSETTO:+1100
TZNAME:AEDT
DTSTART:20251004T160000
END:DAYLIGHT
END:VTIMEZONE
BEGIN:VEVENT
DTSTART;TZID=Australia/Melbourne:20250313T090000
DTEND;TZID=Australia/Melbourne:20250313T093000
DTSTAMP:20260421T203632
CREATED:20250226T031845Z
LAST-MODIFIED:20250226T031845Z
UID:10000458-1741856400-1741858200@mildurasportingprecinct.com.au
SUMMARY:Parents Walk & Talk
DESCRIPTION:Parents Walk & Talk has returned to Mildura Sporting Precinct\, with an updated start time to beat the heat! \n  \nThursday mornings beginning 27th Feb to 3rd April \n9am start for 20-30min walk \nDiscounted coffee for all participants! \nRegister here: Parents Walk & Talk 9am Thursdays @ Mildura Sporting Precinct 27th Feb – 3rd April 2025 \n 
URL:https://mildurasportingprecinct.com.au/event/parents-walk-talk/2025-03-13/
LOCATION:Mildura Sporting Precinct\, 684 Deakin Ave\, Mildura\, Vic\, 3500\, Australia
CATEGORIES:Community
ATTACH;FMTTYPE=image/jpeg:https://mildurasportingprecinct.com.au/wp-content/uploads/2024/01/0896-MSP-Social-Walking-Group-FB2-scaled.jpg
END:VEVENT
BEGIN:VEVENT
DTSTART;TZID=Australia/Melbourne:20250313T093000
DTEND;TZID=Australia/Melbourne:20250313T120000
DTSTAMP:20260421T203632
CREATED:20250220T234441Z
LAST-MODIFIED:20250220T234634Z
UID:10000450-1741858200-1741867200@mildurasportingprecinct.com.au
SUMMARY:COMMUNITY PLAYGROUP
DESCRIPTION:Mildura Rural City Council’s Early Years department provides a free Community Playgroup at MSP on a Thursday! Take part in a fun\, active playgroup that encourages movement and play.\n\n\n \n\n\n📆 Every Thursday morning during term\n\n\n\n✅ Available between 9:30am and 12:00pm – arrive at a time that suits your family\n\n\n\n👨‍👩‍👧‍👦 For children up to 5 years of age\n\n\n\n☕️ Grab a coffee from the café\, talk with other parents and enjoy watching your children play!\n\n\nLooking to get involved?\n\nCome along! You can register on arrival on any Thursday during term time.
URL:https://mildurasportingprecinct.com.au/event/community-playgroup-3/2025-03-13/
LOCATION:Mildura Sporting Precinct\, 684 Deakin Ave\, Mildura\, Vic\, 3500\, Australia
CATEGORIES:Community
ATTACH;FMTTYPE=image/jpeg:https://mildurasportingprecinct.com.au/wp-content/uploads/2022/08/iStock-1287173911_web.jpg
END:VEVENT
BEGIN:VEVENT
DTSTART;TZID=Australia/Melbourne:20250313T093000
DTEND;TZID=Australia/Melbourne:20250313T120000
DTSTAMP:20260421T203632
CREATED:20250515T043203Z
LAST-MODIFIED:20250515T043203Z
UID:10000468-1741858200-1741867200@mildurasportingprecinct.com.au
SUMMARY:COMMUNITY PLAYGROUP
DESCRIPTION:Mildura Rural City Council’s Early Years department provides a free Community Playgroup at MSP on a Thursday! Take part in a fun\, active playgroup that encourages movement and play.\n\n\n \n\n\n📆 Every Thursday morning during term\n\n\n\n✅ Available between 9:30am and 12:00pm – arrive at a time that suits your family\n\n\n\n👨‍👩‍👧‍👦 For children up to 5 years of age\n\n\n\n\n\n\nLooking to get involved?\n\nCome along! You can register on arrival on any Thursday during term time.
URL:https://mildurasportingprecinct.com.au/event/community-playgroup-4/2025-03-13/
LOCATION:Mildura Sporting Precinct\, 684 Deakin Ave\, Mildura\, Vic\, 3500\, Australia
CATEGORIES:Community
ATTACH;FMTTYPE=image/jpeg:https://mildurasportingprecinct.com.au/wp-content/uploads/2022/08/iStock-1287173911_web.jpg
END:VEVENT
END:VCALENDAR