BEGIN:VCALENDAR
VERSION:2.0
PRODID:-//Mildura Sporting Precinct - ECPv6.9.0//NONSGML v1.0//EN
CALSCALE:GREGORIAN
METHOD:PUBLISH
X-ORIGINAL-URL:https://mildurasportingprecinct.com.au
X-WR-CALDESC:Events for Mildura Sporting Precinct
REFRESH-INTERVAL;VALUE=DURATION:PT1H
X-Robots-Tag:noindex
X-PUBLISHED-TTL:PT1H
BEGIN:VTIMEZONE
TZID:Australia/Melbourne
BEGIN:STANDARD
TZOFFSETFROM:+1100
TZOFFSETTO:+1000
TZNAME:AEST
DTSTART:20240406T160000
END:STANDARD
BEGIN:DAYLIGHT
TZOFFSETFROM:+1000
TZOFFSETTO:+1100
TZNAME:AEDT
DTSTART:20241005T160000
END:DAYLIGHT
END:VTIMEZONE
BEGIN:VEVENT
DTSTART;TZID=Australia/Melbourne:20240817T143000
DTEND;TZID=Australia/Melbourne:20240817T170000
DTSTAMP:20260420T203932
CREATED:20240808T223922Z
LAST-MODIFIED:20240808T223922Z
UID:10000424-1723905000-1723914000@mildurasportingprecinct.com.au
SUMMARY:South Mildura V Imperials @MSP
DESCRIPTION:South Mildura Sporting Club battles the Imperial Football Netball Club in their final home game of the 2024 Sunraysia Football Netball League season.
URL:https://mildurasportingprecinct.com.au/event/south-mildura-v-imperials-msp/
LOCATION:Mildura Sporting Precinct\, 684 Deakin Ave\, Mildura\, Vic\, 3500\, Australia
ATTACH;FMTTYPE=image/jpeg:https://mildurasportingprecinct.com.au/wp-content/uploads/2023/09/HR.220910.0061-scaled.jpg
END:VEVENT
END:VCALENDAR